BEGIN:VCALENDAR
VERSION:2.0
PRODID:-//Shabbatness - ECPv4.6//NONSGML v1.0//EN
CALSCALE:GREGORIAN
METHOD:PUBLISH
X-WR-CALNAME:Shabbatness
X-ORIGINAL-URL:http://www.shabbatness.com
X-WR-CALDESC:Events for Shabbatness
BEGIN:VEVENT
DTSTART;TZID=UTC+0:20190627T183000
DTEND;TZID=UTC+0:20190627T203000
DTSTAMP:20260425T105755
CREATED:20190626T171658Z
LAST-MODIFIED:20190626T171658Z
UID:1147-1561660200-1561667400@www.shabbatness.com
SUMMARY:Erin + Ethan's Pre-Camp Cocktails
DESCRIPTION:With just two weeks to go\, J-Overlay at Club Getaway is almost here! We’re so excited for our fun-filled Jewish young professionals weekend adventure in the beautiful Berkshires and want to kick-off the countdown with a special Happy Hour! Please join us for pre-camp cocktails at Mile 17 to learn more about what we have in store for July 12-14\, meet other “campers”\, or just come out and grab a drink to celebrate summer! All are welcome! \nThose registered for J-Overlay before the end of the night will get a free drink\, a Shabbatness tote bag full of surprises\, and *FREE REGISTRATION AND OPEN BAR* to return to camp with Erin on Aug 9-11! \nThis Happy Hour is FREE to attend – please RSVP for headcount purposes and give either Erin’s or Ethan’s name at the door. \nFor more info on J-Overlay at Club Getaway\, please check out the event page here: https://events.com/r/en_US/registration/j-overlay—july-young-professionals-2019-kent-july-759951 \nCHECK OUT PICS FROM LAST YEAR HERE: https://photos.google.com/share/AF1QipO0JY_emVI03VOrihbCULtLJRJWPklP8lDvwoyjpyi3bSDE6fTCqWumZvFq6K2I6g?key=eEZHY3hBeTRtUS10ZFNSMDV6SGNjRFFHUmxKaDJ3 \nThere are limited spots available\, and we hope you’ll decide to join us! \n
URL:http://www.shabbatness.com/event/erin-ethans-pre-camp-cocktails/
LOCATION:1446 1st Ave.\, New York\, NY\, 10021\, United States
CATEGORIES:Shabbatness events
ATTACH;FMTTYPE=image/jpeg:http://www.shabbatness.com/wp-content/uploads/2019/06/33693349_10160378848595203_1104397479492714496_o.jpg
END:VEVENT
END:VCALENDAR