BEGIN:VCALENDAR
VERSION:2.0
PRODID:-//Shabbatness - ECPv4.6//NONSGML v1.0//EN
CALSCALE:GREGORIAN
METHOD:PUBLISH
X-WR-CALNAME:Shabbatness
X-ORIGINAL-URL:http://www.shabbatness.com
X-WR-CALDESC:Events for Shabbatness
BEGIN:VEVENT
DTSTART;TZID=UTC+0:20191002T190000
DTEND;TZID=UTC+0:20191002T210000
DTSTAMP:20260423T051626
CREATED:20191001T021328Z
LAST-MODIFIED:20191001T021328Z
UID:1215-1570042800-1570050000@www.shabbatness.com
SUMMARY:Fall Fest Pre-Camp Happy Hour
DESCRIPTION:It may not feel like it yet outside\, but it’s officially FALL! And what better way to celebrate the season than Fall Finale w/ Erin & Friends! at Club Getaway?! Please come out for a seasonal celebration and pre-camp cocktail hour at Mad River Grille to learn more about what’s in store for our weekend adventure on Oct. 4-6\, meet others in our AMAZING group\, or just schmooze and enjoy $1 tacos\, live acoustic entertainment\, and a special signature camp cocktail special. All are welcome – whether you’re able to come to camp or not. It’s not too late to sign up\, though: https://events.com/r/en_US/registration/erins-group—fall-finale-2019-kent-october-767555 \n**RSVP REQUIRED** This Happy Hour is free to attend\, but I need a headcount for our reserved space. See you Wednesday!! \nI am working on final cabin rooming assignments\, so this is a great chance to meet people and see who you’d like to room with before the list is finalized Thursday. \n
URL:http://www.shabbatness.com/event/fall-fest-pre-camp-happy-hour/
LOCATION:1442 3rd Ave.\, New York\, NY\, 10028\, United States
CATEGORIES:Shabbatness events
ATTACH;FMTTYPE=image/png:http://www.shabbatness.com/wp-content/uploads/2019/10/Screen-Shot-2019-09-27-at-3.03.04-PM.png
END:VEVENT
END:VCALENDAR